Workbook

Sheet Travel Expenses Reimbursement
A1: GLOUCESTER COUNTY PUBLIC SCHOOLS | H1: Revised Oct. 8, 2026 | M1: Click to Pick
A2: TRAVEL EXPENSES REIMBURSEMENT VOUCHER | M2: Abingdon
M3: Achilles
A4: NAME | D4: SCHOOL OFFICE | G4: VENDOR NUMBER | M4: Bethel
M5: Botetourt
G6: TRAVEL REQUEST NUMBER | M6: Petsworth
M7: T. C. Walker
A8: YOUR NAME HERE | M8: Page
A9: STREET ADDRESS | G9: FUND CITE NUMBER(S) | M9: Peasley
A10: CITY, STATE ZIP CODE | M10: GHS
M11: Victory Academy
M12: Administration
M13: Budget and Finance
M14: Buildings & Grounds
A15: PLEASE COMPLETE THIS FORM ON THE COMPUTER. SAVE, PRINT, AND SIGN VOUCHER AT BOTTOM. | M15: Food Services
A16: ENCLOSE RECEIPTS FOR LODGING, TOLLS, AND MEALS BEFORE FORWARDING VIA THE PONY. | M16: Human Resources
A17: (NOTE - EACH DAY'S EXPENSES MUST BE SHOWN SEPARATELY. PLEASE READ MEAL REIMBURSEMENT COMMENT.) | M17: Instruction
A18: ITEMIZED LIST OF EXPENSES | M18: Maintenance/Engineering
A19: DATE | B19: DESTINATION(S) | C19: NO. MILES | D19: VEHICLE REQSTD? | E19: =+"Amount "&FIXED(Rates!C3,3,FALSE) -> Amount 0.760 | F19: AMOUNT LODGING | G19: AMOUNT MEALS | H19: OTHER | I19: TOTAL | M19: Special Education Office
E20: =IF(D20="X",Rates!$C$3*C20,"") | I20: =SUM(E20:H20) -> 0 | M20: Student Services
E21: =IF(D21="X",Rates!$C$3*C21,"") | I21: =SUM(E21:H21) -> 0 | M21: Technology
E22: =IF(D22="X",Rates!$C$3*C22,"") | I22: =SUM(E22:H22) -> 0 | M22: Transportation
E23: =IF(D23="X",Rates!$C$3*C23,"") | I23: =SUM(E23:H23) -> 0
E24: =IF(D24="X",Rates!$C$3*C24,"") | I24: =SUM(E24:H24) -> 0
E25: =IF(D25="X",Rates!$C$3*C25,"") | I25: =SUM(E25:H25) -> 0
E26: =IF(D26="X",Rates!$C$3*C26,"") | I26: =SUM(E26:H26) -> 0
E27: =IF(D27="X",Rates!$C$3*C27,"") | I27: =SUM(E27:H27) -> 0
E28: =IF(D28="X",Rates!$C$3*C28,"") | I28: =SUM(E28:H28) -> 0
E29: =IF(D29="X",Rates!$C$3*C29,"") | I29: =SUM(E29:H29) -> 0
E30: =IF(D30="X",Rates!$C$3*C30,"") | I30: =SUM(E30:H30) -> 0
E31: =IF(D31="X",Rates!$C$3*C31,"") | I31: =SUM(E31:H31) -> 0
E32: =IF(D32="X",Rates!$C$3*C32,"") | I32: =SUM(E32:H32) -> 0
E33: =IF(D33="X",Rates!$C$3*C33,"") | I33: =SUM(E33:H33) -> 0
E34: =IF(D34="X",Rates!$C$3*C34,"") | I34: =SUM(E34:H34) -> 0
... E41: =IF(D41="X",Rates!$C$3*C41,"") | I41: =SUM(E41:H41) -> 0
E42: =SUM(E20:E41) -> 0 | F42: =SUM(F20:F41) -> 0 | G42: =SUM(G20:G41) -> 0 | H42: =SUM(H20:H41) -> 0 | I42: =SUM(I20:I41) -> 0
A44: I hereby certify that expenses listed above in the amount of | D44: =I42 -> 0
A45: were incurred by me on school business of the Gloucester County
A46: School Board and include only such expenses as were necessary in the | E46: PRINCIPAL/SUPERVISOR
A47: conduct of this business.
...

Sheet Rates
B2: Date | C2: New Rate
B3: 46204 | C3: 0.76
